BEGIN:VCALENDAR
VERSION:2.0
PRODID:-//STAR-C - ECPv6.15.20//NONSGML v1.0//EN
CALSCALE:GREGORIAN
METHOD:PUBLISH
X-ORIGINAL-URL:https://starcproject.org
X-WR-CALDESC:Events for STAR-C
REFRESH-INTERVAL;VALUE=DURATION:PT1H
X-Robots-Tag:noindex
X-PUBLISHED-TTL:PT1H
BEGIN:VTIMEZONE
TZID:Atlantic/Cape_Verde
BEGIN:STANDARD
TZOFFSETFROM:-0100
TZOFFSETTO:-0100
TZNAME:-01
DTSTART:20220101T000000
END:STANDARD
END:VTIMEZONE
BEGIN:VEVENT
DTSTART;TZID=Atlantic/Cape_Verde:20231012T080000
DTEND;TZID=Atlantic/Cape_Verde:20231013T180000
DTSTAMP:20260424T114355
CREATED:20231123T101910Z
LAST-MODIFIED:20231123T101910Z
UID:8232-1697097600-1697220000@starcproject.org
SUMMARY:ECOWAS Sustainable Energy Forum - ESEF 2023
DESCRIPTION:During October 12 and 13\, we took part in the 8th edition of the ECOWAS Sustainable Energy Forum (ESEF) 2023\, in Praia (Cape Verde). The event\, established in 2015\, is organized each year by the ECOWAS Center for Renewable Energies and Energy Efficiency (ECREEE). It aims to encourage cooperation and partnerships to accelerate the establishment of a viable market for sustainable energy solutions in the region.  \nThe Forum is an unmissable meeting place for renewable energies stakeholders in West Africa\, bringing together over the years Heads of State\, Ministers\, Heads of development Organizations\, financial Institutions\, stakeholders renowned private sector experts in the field of energy and climate.   \nOn the second day of the Forum\, we had the opportunity to participate in a Session of the Tripartite Consultative Committee\, established within the framework of the ECOWAS Certification of Sustainable Energy Skills (ECSES). We shared this session with Certification Experts from ECREEE\, Heads of Directorate or Agency on Renewable Agency and Energy Efficiency\, Academics\, and Associative Organizations representing the private sectors in ECOWAS countries.  \nDuring this session\, we then made a presentation of the GN SEC\, before moving to the STAR C Project\, and finishing with the Solar Academy which will be implemented in Senegal.  
URL:https://starcproject.org/event/ecowas-sustainable-energy-forum-esef-2023/
END:VEVENT
END:VCALENDAR